BEGIN:VCALENDAR
VERSION:2.0
PRODID:-//TPSU - The Plan Sponsor University - ECPv6.15.20//NONSGML v1.0//EN
CALSCALE:GREGORIAN
METHOD:PUBLISH
X-WR-CALNAME:TPSU - The Plan Sponsor University
X-ORIGINAL-URL:https://www.tpsuniversity.com
X-WR-CALDESC:Events for TPSU - The Plan Sponsor University
REFRESH-INTERVAL;VALUE=DURATION:PT1H
X-Robots-Tag:noindex
X-PUBLISHED-TTL:PT1H
BEGIN:VTIMEZONE
TZID:America/New_York
BEGIN:DAYLIGHT
TZOFFSETFROM:-0500
TZOFFSETTO:-0400
TZNAME:EDT
DTSTART:20240310T070000
END:DAYLIGHT
BEGIN:STANDARD
TZOFFSETFROM:-0400
TZOFFSETTO:-0500
TZNAME:EST
DTSTART:20241103T060000
END:STANDARD
BEGIN:DAYLIGHT
TZOFFSETFROM:-0500
TZOFFSETTO:-0400
TZNAME:EDT
DTSTART:20250309T070000
END:DAYLIGHT
BEGIN:STANDARD
TZOFFSETFROM:-0400
TZOFFSETTO:-0500
TZNAME:EST
DTSTART:20251102T060000
END:STANDARD
BEGIN:DAYLIGHT
TZOFFSETFROM:-0500
TZOFFSETTO:-0400
TZNAME:EDT
DTSTART:20260308T070000
END:DAYLIGHT
BEGIN:STANDARD
TZOFFSETFROM:-0400
TZOFFSETTO:-0500
TZNAME:EST
DTSTART:20261101T060000
END:STANDARD
END:VTIMEZONE
BEGIN:VEVENT
DTSTART;TZID=America/New_York:20250814T080000
DTEND;TZID=America/New_York:20250814T140000
DTSTAMP:20260425T074104
CREATED:20250613T120007Z
LAST-MODIFIED:20250917T195145Z
UID:4481-1755158400-1755180000@www.tpsuniversity.com
SUMMARY:Robert Morris University\, Moon Township\, PA - Certified 401(k) Plan Fiduciary Program
DESCRIPTION:Register For This Program\n					\n\n	\n\n\n	\n		\n	When\nWednesday\, June 24\, 2026\n8:30AM - 2:30PM\n(Program begins promptly at 9:00AM) \nLocation\nUniversity of Hartford\nHarry Jack Gray Center\n200 Bloomfield Ave\,\nWest Hartford\, CT 06117\nConference Room 1877/Room D \nContact\nThe Plan Sponsor University\nregistrar@tpsuniversity.com\n855-755-4015 option 2 \nEligibility\nRegistration is open to Plan Fiduciaries who serve as a Plan Fiduciary\, for their company's retirement plan.\nTPSU Program is not a function of the host institution \nResources\nDownload Agenda\nDownload Speaker Bio(s)\nDownload Driving Directions \n\n	\n\n\n	\n		\n	\n				\n					\n		"The use of this official seal confirms that this activity has met HR Certification Institute's® (HRCI®) criteria for recertification credit pre-approval."\n	\n	\n\n\n	\n		\n	\n				\n					\n	\n	\n\n\n	\n		\n	\n				\n					\n		The Plan Sponsor University is recognized by SHRM to offer Professional Development Credits (PDCs) for the SHRM-CP or SHRM-SCP. \n	\n	\n\n\n\n			\n	\n	\n		\n	Agenda - Speaker(s) - Driving/Parking Directions\n\n	\n\n\n	\n		\n	\n		Agenda\n		TOPICS:\n \n \n\n	\n	\n		\n			\n							Download PDF\n					\n	\n	\n\n	\n\n\n	\n		\n	\n		Speaker(s)\n		Adjunct Lecturer\nComing Soon. \n\n	\n	\n		\n			\n							REGISTER FOR THIS PROGRAM\n					\n	\n	\n\n	\n\n\n	\n		\n	\n		Driving and Parking Directions\n		 \n\n	\n	\n		\n			\n							Download PDF
URL:https://www.tpsuniversity.com/event/robert-morris-university-moon-township-pa-certified-401k-plan-fiduciary-program/
LOCATION:Robert Morris University\, 6001 University Blvd.\, Moon Township\, PA\, 15108\, United States
END:VEVENT
END:VCALENDAR