BEGIN:VCALENDAR
VERSION:2.0
PRODID:-//TPSU - The Plan Sponsor University - ECPv6.15.20//NONSGML v1.0//EN
CALSCALE:GREGORIAN
METHOD:PUBLISH
X-ORIGINAL-URL:https://www.tpsuniversity.com
X-WR-CALDESC:Events for TPSU - The Plan Sponsor University
REFRESH-INTERVAL;VALUE=DURATION:PT1H
X-Robots-Tag:noindex
X-PUBLISHED-TTL:PT1H
BEGIN:VTIMEZONE
TZID:America/New_York
BEGIN:DAYLIGHT
TZOFFSETFROM:-0500
TZOFFSETTO:-0400
TZNAME:EDT
DTSTART:20240310T070000
END:DAYLIGHT
BEGIN:STANDARD
TZOFFSETFROM:-0400
TZOFFSETTO:-0500
TZNAME:EST
DTSTART:20241103T060000
END:STANDARD
BEGIN:DAYLIGHT
TZOFFSETFROM:-0500
TZOFFSETTO:-0400
TZNAME:EDT
DTSTART:20250309T070000
END:DAYLIGHT
BEGIN:STANDARD
TZOFFSETFROM:-0400
TZOFFSETTO:-0500
TZNAME:EST
DTSTART:20251102T060000
END:STANDARD
BEGIN:DAYLIGHT
TZOFFSETFROM:-0500
TZOFFSETTO:-0400
TZNAME:EDT
DTSTART:20260308T070000
END:DAYLIGHT
BEGIN:STANDARD
TZOFFSETFROM:-0400
TZOFFSETTO:-0500
TZNAME:EST
DTSTART:20261101T060000
END:STANDARD
END:VTIMEZONE
BEGIN:VTIMEZONE
TZID:America/Halifax
BEGIN:DAYLIGHT
TZOFFSETFROM:-0400
TZOFFSETTO:-0300
TZNAME:ADT
DTSTART:20240310T060000
END:DAYLIGHT
BEGIN:STANDARD
TZOFFSETFROM:-0300
TZOFFSETTO:-0400
TZNAME:AST
DTSTART:20241103T050000
END:STANDARD
BEGIN:DAYLIGHT
TZOFFSETFROM:-0400
TZOFFSETTO:-0300
TZNAME:ADT
DTSTART:20250309T060000
END:DAYLIGHT
BEGIN:STANDARD
TZOFFSETFROM:-0300
TZOFFSETTO:-0400
TZNAME:AST
DTSTART:20251102T050000
END:STANDARD
BEGIN:DAYLIGHT
TZOFFSETFROM:-0400
TZOFFSETTO:-0300
TZNAME:ADT
DTSTART:20260308T060000
END:DAYLIGHT
BEGIN:STANDARD
TZOFFSETFROM:-0300
TZOFFSETTO:-0400
TZNAME:AST
DTSTART:20261101T050000
END:STANDARD
END:VTIMEZONE
BEGIN:VEVENT
DTSTART;TZID=America/New_York:20251009T080000
DTEND;TZID=America/New_York:20251009T141500
DTSTAMP:20260422T170339
CREATED:20250807T120045Z
LAST-MODIFIED:20251002T182208Z
UID:6496-1759996800-1760019300@www.tpsuniversity.com
SUMMARY:Quinnipiac University\, North Haven\, CT - Certified 401(k) Plan Fiduciary Program
DESCRIPTION:Register For This Program\n					\n\n	\n\n\n	\n		\n	When\nWednesday\, June 10\, 2026\n8:00AM - 2:00PM\n(Program begins promptly at 8:30AM) \nLocation\nDeSales University\nDeSales University Center\n2755 Station Ave.\nCenter Valley\, PA 18034\nCommonwealth Room \nContact\nThe Plan Sponsor University\nregistrar@tpsuniversity.com\n855-755-4015 option 2 \nEligibility\nRegistration is open to Plan Fiduciaries who serve as a Plan Fiduciary\, for their company's retirement plan.\nTPSU Program is not a function of the host institution \nResources\nDownload Agenda\nDownload Speaker Bio(s)\nDownload Driving Directions \n\n	\n\n\n	\n		\n	\n				\n					\n		"The use of this official seal confirms that this activity has met HR Certification Institute's® (HRCI®) criteria for recertification credit pre-approval."\n	\n	\n\n\n	\n		\n	\n				\n					\n	\n	\n\n\n	\n		\n	\n				\n					\n		The Plan Sponsor University is recognized by SHRM to offer Professional Development Credits (PDCs) for the SHRM-CP or SHRM-SCP. \n	\n	\n\n\n\n			\n	\n	\n		\n	Agenda - Speaker(s) - Driving/Parking Directions\n\n	\n\n\n	\n		\n	\n		Agenda\n		TOPICS: Session - 10 Things You are Still Doing Wrong (or Not Doing Right)\n \n \n\n	\n	\n		\n			\n							Download PDF\n					\n	\n	\n\n	\n\n\n	\n		\n	\n		Speaker(s)\n		Adjunct Lecturer\nComing Soon. \n\n	\n	\n		\n			\n							REGISTER FOR THIS PROGRAM\n					\n	\n	\n\n	\n\n\n	\n		\n	\n		Driving and Parking Directions\n		\n	\n	\n		\n			\n							Download Driving and Parking Directions
URL:https://www.tpsuniversity.com/event/quinnipiac-university-north-haven-ct-certified-401k-plan-fiduciary-program2/
LOCATION:Quinnipiac University\, 370 Bassett Rd.\, North Haven\, CT\, 06473\, United States
END:VEVENT
BEGIN:VEVENT
DTSTART;TZID=America/Halifax:20251009T083000
DTEND;TZID=America/Halifax:20251009T143000
DTSTAMP:20260422T170339
CREATED:20250808T120026Z
LAST-MODIFIED:20251119T141729Z
UID:5474-1759998600-1760020200@www.tpsuniversity.com
SUMMARY:Virginia Tech\, Arlington\, VA – Certified 401(k) Plan Fiduciary Program
DESCRIPTION:Register For This Program\n					\n\n	\n\n\n	\n		\n	When\nWednesday\, June 10\, 2026\n8:00AM - 2:00PM\n(Program begins promptly at 8:30AM) \nLocation\nDeSales University\nDeSales University Center\n2755 Station Ave.\nCenter Valley\, PA 18034\nCommonwealth Room \nContact\nThe Plan Sponsor University\nregistrar@tpsuniversity.com\n855-755-4015 option 2 \nEligibility\nRegistration is open to Plan Fiduciaries who serve as a Plan Fiduciary\, for their company's retirement plan.\nTPSU Program is not a function of the host institution \nResources\nDownload Agenda\nDownload Speaker Bio(s)\nDownload Driving Directions \n\n	\n\n\n	\n		\n	\n				\n					\n		"The use of this official seal confirms that this activity has met HR Certification Institute's® (HRCI®) criteria for recertification credit pre-approval."\n	\n	\n\n\n	\n		\n	\n				\n					\n	\n	\n\n\n	\n		\n	\n				\n					\n		The Plan Sponsor University is recognized by SHRM to offer Professional Development Credits (PDCs) for the SHRM-CP or SHRM-SCP. \n	\n	\n\n\n\n			\n	\n	\n		\n	Agenda - Speaker(s) - Driving/Parking Directions\n\n	\n\n\n	\n		\n	\n		Agenda\n		TOPICS: Session - 10 Things You are Still Doing Wrong (or Not Doing Right)\n \n \n\n	\n	\n		\n			\n							Download PDF\n					\n	\n	\n\n	\n\n\n	\n		\n	\n		Speaker(s)\n		Adjunct Lecturer\nComing Soon. \n\n	\n	\n		\n			\n							REGISTER FOR THIS PROGRAM\n					\n	\n	\n\n	\n\n\n	\n		\n	\n		Driving and Parking Directions\n		\n	\n	\n		\n			\n							Download Driving and Parking Directions
URL:https://www.tpsuniversity.com/event/virginia-tech-arlington-va-certified-401k-plan-fiduciary-program-4/
LOCATION:Virginia Tech\, 900 N Glebe Rd\, Arlington\, VA\, 22203\, United States
END:VEVENT
END:VCALENDAR