BEGIN:VCALENDAR
VERSION:2.0
PRODID:-//TPSU - The Plan Sponsor University - ECPv6.15.20//NONSGML v1.0//EN
CALSCALE:GREGORIAN
METHOD:PUBLISH
X-ORIGINAL-URL:https://www.tpsuniversity.com
X-WR-CALDESC:Events for TPSU - The Plan Sponsor University
REFRESH-INTERVAL;VALUE=DURATION:PT1H
X-Robots-Tag:noindex
X-PUBLISHED-TTL:PT1H
BEGIN:VTIMEZONE
TZID:America/Chicago
BEGIN:DAYLIGHT
TZOFFSETFROM:-0600
TZOFFSETTO:-0500
TZNAME:CDT
DTSTART:20240310T080000
END:DAYLIGHT
BEGIN:STANDARD
TZOFFSETFROM:-0500
TZOFFSETTO:-0600
TZNAME:CST
DTSTART:20241103T070000
END:STANDARD
BEGIN:DAYLIGHT
TZOFFSETFROM:-0600
TZOFFSETTO:-0500
TZNAME:CDT
DTSTART:20250309T080000
END:DAYLIGHT
BEGIN:STANDARD
TZOFFSETFROM:-0500
TZOFFSETTO:-0600
TZNAME:CST
DTSTART:20251102T070000
END:STANDARD
BEGIN:DAYLIGHT
TZOFFSETFROM:-0600
TZOFFSETTO:-0500
TZNAME:CDT
DTSTART:20260308T080000
END:DAYLIGHT
BEGIN:STANDARD
TZOFFSETFROM:-0500
TZOFFSETTO:-0600
TZNAME:CST
DTSTART:20261101T070000
END:STANDARD
END:VTIMEZONE
BEGIN:VEVENT
DTSTART;TZID=America/Chicago:20251211T083000
DTEND;TZID=America/Chicago:20251211T143000
DTSTAMP:20260422T111838
CREATED:20251013T120026Z
LAST-MODIFIED:20251202T145101Z
UID:6656-1765441800-1765463400@www.tpsuniversity.com
SUMMARY:Loews Vanderbilt Hotel\, Nashville\, TN - Certified 401(k) Plan Fiduciary Program
DESCRIPTION:Register For This Program\n					\n\n	\n\n\n	\n		\n	When\nWednesday\, June 10\, 2026\n8:00AM - 2:00PM\n(Program begins promptly at 8:30AM) \nLocation\nDeSales University\nDeSales University Center\n2755 Station Ave.\nCenter Valley\, PA 18034\nCommonwealth Room \nContact\nThe Plan Sponsor University\nregistrar@tpsuniversity.com\n855-755-4015 option 2 \nEligibility\nRegistration is open to Plan Fiduciaries who serve as a Plan Fiduciary\, for their company's retirement plan.\nTPSU Program is not a function of the host institution \nResources\nDownload Agenda\nDownload Speaker Bio(s)\nDownload Driving Directions \n\n	\n\n\n	\n		\n	\n				\n					\n		"The use of this official seal confirms that this activity has met HR Certification Institute's® (HRCI®) criteria for recertification credit pre-approval."\n	\n	\n\n\n	\n		\n	\n				\n					\n	\n	\n\n\n	\n		\n	\n				\n					\n		The Plan Sponsor University is recognized by SHRM to offer Professional Development Credits (PDCs) for the SHRM-CP or SHRM-SCP. \n	\n	\n\n\n\n			\n	\n	\n		\n	Agenda - Speaker(s) - Driving/Parking Directions\n\n	\n\n\n	\n		\n	\n		Agenda\n		TOPICS: Session - 10 Things You are Still Doing Wrong (or Not Doing Right)\n \n \n\n	\n	\n		\n			\n							Download PDF\n					\n	\n	\n\n	\n\n\n	\n		\n	\n		Speaker(s)\n		Adjunct Lecturer\nComing Soon. \n\n	\n	\n		\n			\n							REGISTER FOR THIS PROGRAM\n					\n	\n	\n\n	\n\n\n	\n		\n	\n		Driving and Parking Directions\n		\n	\n	\n		\n			\n							Download Driving and Parking Directions
URL:https://www.tpsuniversity.com/event/loews-vanderbilt-hotel-nashville-tn-certified-401k-plan-fiduciary-program/
LOCATION:Loews Vanderbilt Hotel\, 2100 W End Ave\, Nashville\, TN\, 37203\, United States
END:VEVENT
END:VCALENDAR