BEGIN:VCALENDAR
VERSION:2.0
PRODID:-//TPSU - The Plan Sponsor University - ECPv6.15.20//NONSGML v1.0//EN
CALSCALE:GREGORIAN
METHOD:PUBLISH
X-WR-CALNAME:TPSU - The Plan Sponsor University
X-ORIGINAL-URL:https://www.tpsuniversity.com
X-WR-CALDESC:Events for TPSU - The Plan Sponsor University
REFRESH-INTERVAL;VALUE=DURATION:PT1H
X-Robots-Tag:noindex
X-PUBLISHED-TTL:PT1H
BEGIN:VTIMEZONE
TZID:America/New_York
BEGIN:DAYLIGHT
TZOFFSETFROM:-0500
TZOFFSETTO:-0400
TZNAME:EDT
DTSTART:20250309T070000
END:DAYLIGHT
BEGIN:STANDARD
TZOFFSETFROM:-0400
TZOFFSETTO:-0500
TZNAME:EST
DTSTART:20251102T060000
END:STANDARD
BEGIN:DAYLIGHT
TZOFFSETFROM:-0500
TZOFFSETTO:-0400
TZNAME:EDT
DTSTART:20260308T070000
END:DAYLIGHT
BEGIN:STANDARD
TZOFFSETFROM:-0400
TZOFFSETTO:-0500
TZNAME:EST
DTSTART:20261101T060000
END:STANDARD
BEGIN:DAYLIGHT
TZOFFSETFROM:-0500
TZOFFSETTO:-0400
TZNAME:EDT
DTSTART:20270314T070000
END:DAYLIGHT
BEGIN:STANDARD
TZOFFSETFROM:-0400
TZOFFSETTO:-0500
TZNAME:EST
DTSTART:20271107T060000
END:STANDARD
END:VTIMEZONE
BEGIN:VEVENT
DTSTART;TZID=America/New_York:20260604T080000
DTEND;TZID=America/New_York:20260604T140000
DTSTAMP:20260423T015738
CREATED:20260406T120030Z
LAST-MODIFIED:20260421T171959Z
UID:7413-1780560000-1780581600@www.tpsuniversity.com
SUMMARY:Stonehill College\, Easton\, MA - Certified 401(k) Plan Fiduciary Program
DESCRIPTION:Register For This Program\n					\n\n	\n\n\n	\n		\n	When\nTuesday\, September 16\, 2025\n8:00AM - 2:00PM\n(Program begins promptly at 8:30AM) \nLocation\nMarquette University\nAlumni Memorial Union\n1442 W Wisconsin Ave\nMilwaukee\, WI 53233\nRoom 157 \nContact\nThe Plan Sponsor University\nregistrar@tpsuniversity.com\n855-755-4015 option 2 \nEligibility\nRegistration is open to Plan Fiduciaries who serve as a Plan Fiduciary\, for their company's retirement plan.\nTPSU Program is not a function of the host institution \nResources\nDownload Agenda\nDownload Speaker Bio(s)\nDownload Driving Directions \n\n	\n\n\n	\n		\n	\n				\n					\n		"The use of this official seal confirms that this activity has met HR Certification Institute's® (HRCI®) criteria for recertification credit pre-approval."\n	\n	\n\n\n	\n		\n	\n				\n					\n	\n	\n\n\n	\n		\n	\n				\n					\n		The Plan Sponsor University is recognized by SHRM to offer Professional Development Credits (PDCs) for the SHRM-CP or SHRM-SCP. \n	\n	\n\n\n\n			\n	\n	\n		\n	Agenda - Speaker(s) - Driving/Parking Directions\n\n	\n\n\n	\n		\n	\n		Agenda\n		TOPICS:  \nSession 1 - The 10 Things You're Still Doing Wrong (or Not Doing Right) as a Plan Fiduciary \n Session 2 - What is Your Retirement Plan? A Framework for Examining Retirement Income Solutions\n \n \n\n	\n	\n		\n			\n							Download PDF\n					\n	\n	\n\n	\n\n\n	\n		\n	\n		Speaker(s)\n		Adjunct Lecturer\nTodd J. Barden\, C(k)P®\, CFP®\nFounding Partner\nGreat Lakes Retirement Plan Consultants \nTodd Barden is a Corporate Retirement Consultant and Financial Wellness Innovator and has been working closely with Plan Sponsors to help American workers retire with dignity since 1990. “Helping people retire successfully is not just a job for me\, but a passion. When employees are better prepared for retirement\, I believe everyone wins: your company\, your employees\, and society.” \nTodd has earned the significant industry designations of Certified 401(k) Professional (C(k)P® and Certified Financial Planner (CFP®). The C(k)P® designation represents the pinnacle of achievement for professional retirement advisors. Todd received the C(k)P® designation through the Retirement Advisor University (TRAU) in collaboration with UCLA Anderson School of Management’s Executive Education Program. Todd utilizes behavioral finance principles with assisting plan sponsors in their efforts to improve participant outcomes. Todd is an Adjunct Lecturer for the Plan Sponsor University (TPSU) leading interactive retirement plan fiduciary and management education. Todd attended Harvard Law School Negotiation Program to better assist Plan Sponsors with Due Diligence. Todd is a frequent national speaker on financial wellness for events hosted by National Wellness Institute (NWI)\, WICPA (Wisconsin Certified Public Accountants)\, WISHRM (Wisconsin Society of Human Resource Management)\, WELCOA\, and Institutional Investor. Current member of National Association of Stock Plan Professionals (NASPP) and Employee Stock Ownership (ESOP) Association leading Total Rewards Communication for publicly traded firms and ESOP organizations. Wellness is a lifestyle for Todd having competed Boston/Chicago/NYC marathons\, Ironman World Championship Triathlon finisher\, Biz Times Fittest CEO winner\, and past professional Muay Thai kickboxer in Bangla Stadium Thailand. \nTodd was recognized as one of the “Top 401 Retirement Advisors” by the Financial Times1 in May of 2015. \n1The Financial Times Top 401 Retirement Plan Advisors is an independent listing produced by the Financial Times (May\, 2015). The FT 401 is based on data gathered from financial advisors\, firms\, regulatory disclosures\, and the FT’s research. The listing reflects each advisor’s performance in eight primary areas\, including: DC plan assets under management; DC plan assets as a percentage of overall AUM; growth in DC plan AUM; growth in DC plans advised; DC plan employee participation; professional designations experience; and compliance record. Neither the brokerages nor the advisors pay a fee to The Financial Times in exchange for inclusion in the FT 401. \n\n	\n	\n		\n			\n							REGISTER FOR THIS PROGRAM\n					\n	\n	\n\n	\n\n\n	\n		\n	\n		Driving and Parking Directions\n		\n	\n	\n		\n			\n							Download Driving and Parking Directions
URL:https://www.tpsuniversity.com/event/stonehill-college-easton-ma-certified-401k-plan-fiduciary-program-3/
LOCATION:Stonehill College\, 124 Belmont Street\, Easton\, MA\, 02357\, United States
CATEGORIES:TPSU Program for Retirement Plan Fiduciaries
END:VEVENT
BEGIN:VEVENT
DTSTART;TZID=America/New_York:20260610T080000
DTEND;TZID=America/New_York:20260610T140000
DTSTAMP:20260423T015738
CREATED:20260413T120051Z
LAST-MODIFIED:20260421T172059Z
UID:7247-1781078400-1781100000@www.tpsuniversity.com
SUMMARY:DeSales University\, Center Valley\, PA - Certified 401(k) Plan Fiduciary Program
DESCRIPTION:Register For This Program\n					\n\n	\n\n\n	\n		\n	When\nTuesday\, September 16\, 2025\n8:00AM - 2:00PM\n(Program begins promptly at 8:30AM) \nLocation\nMarquette University\nAlumni Memorial Union\n1442 W Wisconsin Ave\nMilwaukee\, WI 53233\nRoom 157 \nContact\nThe Plan Sponsor University\nregistrar@tpsuniversity.com\n855-755-4015 option 2 \nEligibility\nRegistration is open to Plan Fiduciaries who serve as a Plan Fiduciary\, for their company's retirement plan.\nTPSU Program is not a function of the host institution \nResources\nDownload Agenda\nDownload Speaker Bio(s)\nDownload Driving Directions \n\n	\n\n\n	\n		\n	\n				\n					\n		"The use of this official seal confirms that this activity has met HR Certification Institute's® (HRCI®) criteria for recertification credit pre-approval."\n	\n	\n\n\n	\n		\n	\n				\n					\n	\n	\n\n\n	\n		\n	\n				\n					\n		The Plan Sponsor University is recognized by SHRM to offer Professional Development Credits (PDCs) for the SHRM-CP or SHRM-SCP. \n	\n	\n\n\n\n			\n	\n	\n		\n	Agenda - Speaker(s) - Driving/Parking Directions\n\n	\n\n\n	\n		\n	\n		Agenda\n		TOPICS:  \nSession 1 - The 10 Things You're Still Doing Wrong (or Not Doing Right) as a Plan Fiduciary \n Session 2 - What is Your Retirement Plan? A Framework for Examining Retirement Income Solutions\n \n \n\n	\n	\n		\n			\n							Download PDF\n					\n	\n	\n\n	\n\n\n	\n		\n	\n		Speaker(s)\n		Adjunct Lecturer\nTodd J. Barden\, C(k)P®\, CFP®\nFounding Partner\nGreat Lakes Retirement Plan Consultants \nTodd Barden is a Corporate Retirement Consultant and Financial Wellness Innovator and has been working closely with Plan Sponsors to help American workers retire with dignity since 1990. “Helping people retire successfully is not just a job for me\, but a passion. When employees are better prepared for retirement\, I believe everyone wins: your company\, your employees\, and society.” \nTodd has earned the significant industry designations of Certified 401(k) Professional (C(k)P® and Certified Financial Planner (CFP®). The C(k)P® designation represents the pinnacle of achievement for professional retirement advisors. Todd received the C(k)P® designation through the Retirement Advisor University (TRAU) in collaboration with UCLA Anderson School of Management’s Executive Education Program. Todd utilizes behavioral finance principles with assisting plan sponsors in their efforts to improve participant outcomes. Todd is an Adjunct Lecturer for the Plan Sponsor University (TPSU) leading interactive retirement plan fiduciary and management education. Todd attended Harvard Law School Negotiation Program to better assist Plan Sponsors with Due Diligence. Todd is a frequent national speaker on financial wellness for events hosted by National Wellness Institute (NWI)\, WICPA (Wisconsin Certified Public Accountants)\, WISHRM (Wisconsin Society of Human Resource Management)\, WELCOA\, and Institutional Investor. Current member of National Association of Stock Plan Professionals (NASPP) and Employee Stock Ownership (ESOP) Association leading Total Rewards Communication for publicly traded firms and ESOP organizations. Wellness is a lifestyle for Todd having competed Boston/Chicago/NYC marathons\, Ironman World Championship Triathlon finisher\, Biz Times Fittest CEO winner\, and past professional Muay Thai kickboxer in Bangla Stadium Thailand. \nTodd was recognized as one of the “Top 401 Retirement Advisors” by the Financial Times1 in May of 2015. \n1The Financial Times Top 401 Retirement Plan Advisors is an independent listing produced by the Financial Times (May\, 2015). The FT 401 is based on data gathered from financial advisors\, firms\, regulatory disclosures\, and the FT’s research. The listing reflects each advisor’s performance in eight primary areas\, including: DC plan assets under management; DC plan assets as a percentage of overall AUM; growth in DC plan AUM; growth in DC plans advised; DC plan employee participation; professional designations experience; and compliance record. Neither the brokerages nor the advisors pay a fee to The Financial Times in exchange for inclusion in the FT 401. \n\n	\n	\n		\n			\n							REGISTER FOR THIS PROGRAM\n					\n	\n	\n\n	\n\n\n	\n		\n	\n		Driving and Parking Directions\n		\n	\n	\n		\n			\n							Download Driving and Parking Directions
URL:https://www.tpsuniversity.com/event/desales-university-center-valley-pa-certified-401k-plan-fiduciary-program-6/
LOCATION:DeSales University\, 2755 Station Avenue\, Center Valley\, PA\, 18034\, United States
CATEGORIES:TPSU Program for Retirement Plan Fiduciaries
END:VEVENT
END:VCALENDAR