BEGIN:VCALENDAR
VERSION:2.0
PRODID:-//TPSU - The Plan Sponsor University - ECPv6.15.20//NONSGML v1.0//EN
CALSCALE:GREGORIAN
METHOD:PUBLISH
X-WR-CALNAME:TPSU - The Plan Sponsor University
X-ORIGINAL-URL:https://www.tpsuniversity.com
X-WR-CALDESC:Events for TPSU - The Plan Sponsor University
REFRESH-INTERVAL;VALUE=DURATION:PT1H
X-Robots-Tag:noindex
X-PUBLISHED-TTL:PT1H
BEGIN:VTIMEZONE
TZID:America/Halifax
BEGIN:DAYLIGHT
TZOFFSETFROM:-0400
TZOFFSETTO:-0300
TZNAME:ADT
DTSTART:20250309T060000
END:DAYLIGHT
BEGIN:STANDARD
TZOFFSETFROM:-0300
TZOFFSETTO:-0400
TZNAME:AST
DTSTART:20251102T050000
END:STANDARD
BEGIN:DAYLIGHT
TZOFFSETFROM:-0400
TZOFFSETTO:-0300
TZNAME:ADT
DTSTART:20260308T060000
END:DAYLIGHT
BEGIN:STANDARD
TZOFFSETFROM:-0300
TZOFFSETTO:-0400
TZNAME:AST
DTSTART:20261101T050000
END:STANDARD
BEGIN:DAYLIGHT
TZOFFSETFROM:-0400
TZOFFSETTO:-0300
TZNAME:ADT
DTSTART:20270314T060000
END:DAYLIGHT
BEGIN:STANDARD
TZOFFSETFROM:-0300
TZOFFSETTO:-0400
TZNAME:AST
DTSTART:20271107T050000
END:STANDARD
END:VTIMEZONE
BEGIN:VEVENT
DTSTART;TZID=America/Halifax:20260624T083000
DTEND;TZID=America/Halifax:20260624T143000
DTSTAMP:20260425T065031
CREATED:20260424T120020Z
LAST-MODIFIED:20260424T141812Z
UID:7766-1782289800-1782311400@www.tpsuniversity.com
SUMMARY:University of Hartford\, West Hartford\, CT - Certified 401(k) Plan Fiduciary Program
DESCRIPTION:Register For This Program\n					\n\n	\n\n\n	\n		\n	When\nTuesday\, June 3\, 2025\n8:00AM - 2:00PM\n(Program begins promptly at 8:30AM) \nLocation\nRollins College\nFaculty Club\n1000 Holt Ave\nWinter Park\, FL 32789\nFaculty Club Room \nContact\nThe Plan Sponsor University\nregistrar@tpsuniversity.com\n855-755-4015 option 2 \nEligibility\nRegistration is open to Plan Fiduciaries who serve as a Plan Fiduciary\, for their company's retirement plan.\nTPSU Program is not a function of the host institution \nResources\nDownload Agenda\nDownload Speaker Bio(s)\nDownload Driving Directions \n\n	\n\n\n	\n		\n	\n				\n					\n		"The use of this official seal confirms that this activity has met HR Certification Institute's® (HRCI®) criteria for recertification credit pre-approval."\n	\n	\n\n\n	\n		\n	\n				\n					\n	\n	\n\n\n	\n		\n	\n				\n					\n		The Plan Sponsor University is recognized by SHRM to offer Professional Development Credits (PDCs) for the SHRM-CP or SHRM-SCP. \n	\n	\n\n\n\n			\n	\n	\n		\n	Agenda - Speaker(s) - Driving/Parking Directions\n\n	\n\n\n	\n		\n	\n		Agenda\n		TOPICS:  \nSession 1 - Managing Your Retirement Plan – A Fiduciary Foundation  \nSession 2 - Building Blocks for a Successful Retirement Plan!\n \n \n\n	\n	\n		\n			\n							Download PDF\n					\n	\n	\n\n	\n\n\n	\n		\n	\n		Speaker(s)\n		Adjunct Lecturer\nSue Perez\, C(k)P®\, QPFC\nFirst Vice President\, Financial Advisor\nWells Fargo Advisor \nSue is a Financial Advisor with Wells Fargo Advisors\, a leading global financial services firm offering a wide variety of investment banking\, securities\, investment management\, retirement planning and wealth management services. Sue earned the C(k)P® Certified 401(k) Professional designation from The Retirement Advisor University® in collaboration with UCLA Anderson School of Management Executive Education. In addition\, she holds the QPFC\, Qualified Plan Financial Consultant designation. \nThroughout her career in the financial services sector\, Sue has earned a reputation for providing clients with honest\, professional\, wealth building strategies that have resulted in productive and long-lasting business relationships. Sue understands the dynamics of today’s ever changing regulatory and economic environment. She personally handles all of her client’s retirement plans with care and responsibility. She provides on-going support to her plans and focuses constantly on improving plans and providing plan sponsor education. Sue is committed to providing education to plan sponsors as well as plan participants and conducts on-going education for both. \nPrior to launching her career as a Financial Advisor\, Sue held several executive positions in the residential and commercial lending industry. Throughout her career\, she not only managed sales and service efforts but also managed employee training and benefits as well. This experience allows her to assist her plan sponsors with more than just their retirement plan and has allowed her to create successful plan designs that incorporate multiple services and meet multiple needs. \n\n	\n	\n		\n			\n							REGISTER FOR THIS PROGRAM\n					\n	\n	\n\n	\n\n\n	\n		\n	\n		Driving and Parking Directions\n		\n	\n	\n		\n			\n							Download Driving and Parking Directions
URL:https://www.tpsuniversity.com/event/university-of-hartford-west-hartford-ct-certified-401k-plan-fiduciary-program/
LOCATION:University of Hartford\, 200 Bloomfield Ave\,\, West Hartford\, CT\, 06117\, United States
CATEGORIES:TPSU Program for Retirement Plan Fiduciaries
END:VEVENT
END:VCALENDAR